BEGIN:VCALENDAR
VERSION:2.0
PRODID:-//Superband - ECPv4.6.23//NONSGML v1.0//EN
CALSCALE:GREGORIAN
METHOD:PUBLISH
X-WR-CALNAME:Superband
X-ORIGINAL-URL:https://superband.com.au
X-WR-CALDESC:Events for Superband
BEGIN:VEVENT
DTSTART;TZID=UTC+0:20190323T223000
DTEND;TZID=UTC+0:20190324T223000
DTSTAMP:20190227T170429
CREATED:20190116T115046Z
LAST-MODIFIED:20190116T115046Z
UID:1094-1553380200-1553466600@superband.com.au
SUMMARY:Groove Bar & Lounge\, Crown Casino
DESCRIPTION:Four HUGE Sets of Retro\, Disco\, Rock & Pop HITS from the last 40 years From Crown Casino’s Best LIVE Band Stand – Groove Bar & Lounge Level 1- Free Entry \n
URL:https://superband.com.au/event/groove-bar-lounge-crown-casino-12/
LOCATION:Crown Casino Melbourne\, 8 Whiteman Street\, Southbank\, Victoria\, 3006\, Australia
END:VEVENT
BEGIN:VEVENT
DTSTART;TZID=UTC+0:20190330T223000
DTEND;TZID=UTC+0:20190331T023000
DTSTAMP:20190227T170429
CREATED:20190116T115300Z
LAST-MODIFIED:20190116T115300Z
UID:1096-1553985000-1553999400@superband.com.au
SUMMARY:Groove Bar & Lounge\, Crown Casino
DESCRIPTION:Four HUGE Sets of Retro\, Disco\, Rock & Pop HITS from the last 40 years From Crown Casino’s Best LIVE Band Stand – Groove Bar & Lounge Level 1- Free Entry \n
URL:https://superband.com.au/event/groove-bar-lounge-crown-casino-13/
LOCATION:Crown Casino Melbourne\, 8 Whiteman Street\, Southbank\, Victoria\, 3006\, Australia
END:VEVENT
END:VCALENDAR